BEGIN:VCALENDAR
VERSION:2.0
CALSCALE:GREGORIAN
PRODID:-//Diputació de Barcelona//DibaCMS//EN
BEGIN:VEVENT
UID:2996
DTSTAMP:20260422T193615
DTSTART:20251203T174500
DTEND:20251203T183000
SUMMARY:Encesa de llums de Nadal i berenar
LOCATION:Plaça de la Vila 
METHOD:PUBLISH
X-WR-CALNAME:cabanyes@lescabanyes.cat
X-WR-TIMEZONE:Europe/Madrid
DESCRIPTION:Encesa oficial de llums de Nadal a la plaça de l’Ajuntament, acompanyada d’un berenar popular i una parada solidària de plantes de Nadal.

URI:https://www.lescabanyes.cat/actualitat/agenda/2996-encesa-de-llums-de-nadal-i-berenar.html
CLASS:PUBLIC
END:VEVENT
END:VCALENDAR
