BEGIN:VCALENDAR
VERSION:2.0
CALSCALE:GREGORIAN
PRODID:-//Diputació de Barcelona//DibaCMS//EN
BEGIN:VEVENT
UID:2998
DTSTAMP:20260422T164902
DTSTART:20251117T000000
DTEND:20251205T000000
SUMMARY:Inscripcions del casal de Nadal
LOCATION:C/ Vint-i-sis, 2 08794 Les Cabanyes
METHOD:PUBLISH
X-WR-CALNAME:cabanyes@lescabanyes.cat
X-WR-TIMEZONE:Europe/Madrid
DESCRIPTION:Ja tenim aquí el Casal de Nadal per als infants d’I3 a 6è de primària!

URI:https://www.lescabanyes.cat/actualitat/agenda/2998-inscripcions-del-casal-de-nadal.html
CLASS:PUBLIC
END:VEVENT
END:VCALENDAR
