BEGIN:VCALENDAR
VERSION:2.0
CALSCALE:GREGORIAN
PRODID:-//Diputació de Barcelona//DibaCMS//EN
BEGIN:VEVENT
UID:3047
DTSTAMP:20260424T140258
DTSTART:20261219T110000
DTEND:20261219T130000
SUMMARY:Visita guiada de St. Valentí desembre 2026
LOCATION:Conjunt històric de Sant Valentí 08794 Les Cabanyes
METHOD:PUBLISH
X-WR-CALNAME:cabanyes@lescabanyes.cat
X-WR-TIMEZONE:Europe/Madrid
DESCRIPTION:
URI:https://www.lescabanyes.cat/actualitat/agenda/visita-guiada-de-st-valenti-desembre-2026.html
CLASS:PUBLIC
END:VEVENT
END:VCALENDAR
