BEGIN:VCALENDAR
VERSION:2.0
CALSCALE:GREGORIAN
PRODID:-//Diputació de Barcelona//DibaCMS//EN
BEGIN:VEVENT
UID:3049
DTSTAMP:20260426T023159
DTSTART:20260301T120000
DTEND:20260301T130000
SUMMARY:Club de lectura març 2026
LOCATION:Plaça de la Guitarra 
METHOD:PUBLISH
X-WR-CALNAME:cabanyes@lescabanyes.cat
X-WR-TIMEZONE:Europe/Madrid
DESCRIPTION:
URI:https://www.lescabanyes.cat/actualitat/agenda/club-de-lectura-marc-2026.html
CLASS:PUBLIC
END:VEVENT
END:VCALENDAR
