BEGIN:VCALENDAR
VERSION:2.0
CALSCALE:GREGORIAN
PRODID:-//Diputació de Barcelona//DibaCMS//EN
BEGIN:VEVENT
UID:3051
DTSTAMP:20260426T031119
DTSTART:20260131T061000
DTEND:20260201T200000
SUMMARY:Esquiada Jove 2026
LOCATION:Masella 
METHOD:PUBLISH
X-WR-CALNAME:cabanyes@lescabanyes.cat
X-WR-TIMEZONE:Europe/Madrid
DESCRIPTION:
URI:https://www.lescabanyes.cat/actualitat/agenda/esquiada-jove-2026.html
CLASS:PUBLIC
END:VEVENT
END:VCALENDAR
