BEGIN:VCALENDAR
VERSION:2.0
CALSCALE:GREGORIAN
PRODID:-//Diputació de Barcelona//DibaCMS//EN
BEGIN:VEVENT
UID:3090
DTSTAMP:20260423T114816
DTSTART:20260311T173000
DTEND:20260311T190000
SUMMARY:8M - Xerrada "La tecnologia, com, quan i quina utilitzar. (6-9 anys)"
LOCATION:C/ Vint-i-sis, 2 08794 Les Cabanyes
METHOD:PUBLISH
X-WR-CALNAME:cabanyes@lescabanyes.cat
X-WR-TIMEZONE:Europe/Madrid
DESCRIPTION:El programa del 8M també inclou un cicle de xerrades educatives per a famílies, en col·laboració amb la Diputació de Barcelona i l’Escola La Cabana, que tindran lloc a les 17.30 h.

URI:https://www.lescabanyes.cat/actualitat/agenda/8m-xerrada-la-tecnologia-com-quan-i-quina-utilitzar-6-9-anys.html
CLASS:PUBLIC
END:VEVENT
END:VCALENDAR
